BEGIN:VCALENDAR
VERSION:2.0
PRODID:-//Locust Valley Elementary Parents Council - ECPv6.15.17.1//NONSGML v1.0//EN
CALSCALE:GREGORIAN
METHOD:PUBLISH
X-WR-CALNAME:Locust Valley Elementary Parents Council
X-ORIGINAL-URL:https://lvepc.org
X-WR-CALDESC:Events for Locust Valley Elementary Parents Council
REFRESH-INTERVAL;VALUE=DURATION:PT1H
X-Robots-Tag:noindex
X-PUBLISHED-TTL:PT1H
BEGIN:VTIMEZONE
TZID:UTC
BEGIN:STANDARD
TZOFFSETFROM:+0000
TZOFFSETTO:+0000
TZNAME:UTC
DTSTART:20170101T000000
END:STANDARD
END:VTIMEZONE
BEGIN:VEVENT
DTSTART;TZID=UTC:20180227T093000
DTEND;TZID=UTC:20180227T103000
DTSTAMP:20260420T144659
CREATED:20170923T162511Z
LAST-MODIFIED:20170923T162511Z
UID:10000160-1519723800-1519727400@lvepc.org
SUMMARY:SEPTA Meeting
DESCRIPTION:
URL:https://lvepc.org/event/septa-meeting-3/
LOCATION:Bayville Primary\, 50 Godfrey Avenue\, Bayville\, NY\, 11709\, United States
GEO:40.9052959;-73.5660208
X-APPLE-STRUCTURED-LOCATION;VALUE=URI;X-ADDRESS=Bayville Primary 50 Godfrey Avenue Bayville NY 11709 United States;X-APPLE-RADIUS=500;X-TITLE=50 Godfrey Avenue:geo:-73.5660208,40.9052959
END:VEVENT
END:VCALENDAR